BEGIN:VCALENDAR
VERSION:2.0
PRODID:-//Office de Tourisme du Pays du Neubourg - ECPv5.16.2.1//NONSGML v1.0//EN
CALSCALE:GREGORIAN
METHOD:PUBLISH
X-WR-CALNAME:Office de Tourisme du Pays du Neubourg
X-ORIGINAL-URL:https://www.tourisme.paysduneubourg.fr
X-WR-CALDESC:évènements pour Office de Tourisme du Pays du Neubourg
REFRESH-INTERVAL;VALUE=DURATION:PT1H
X-Robots-Tag:noindex
X-PUBLISHED-TTL:PT1H
BEGIN:VTIMEZONE
TZID:Europe/Paris
BEGIN:DAYLIGHT
TZOFFSETFROM:+0100
TZOFFSETTO:+0200
TZNAME:CEST
DTSTART:20240331T010000
END:DAYLIGHT
BEGIN:STANDARD
TZOFFSETFROM:+0200
TZOFFSETTO:+0100
TZNAME:CET
DTSTART:20241027T010000
END:STANDARD
END:VTIMEZONE
BEGIN:VEVENT
DTSTART;TZID=Europe/Paris:20240210T000000
DTEND;TZID=Europe/Paris:20240310T000000
DTSTAMP:20260419T150155
CREATED:20240205T173603Z
LAST-MODIFIED:20240207T003610Z
UID:39783-1707523200-1710028800@www.tourisme.paysduneubourg.fr
SUMMARY:Festival du Cinéma d'Animation
DESCRIPTION:Cette année\, le Festival du Cinéma d’Animation du Neubourg fête son 15ème anniversaire ! \nPour cette occasion exceptionnelle\, il a fait peau neuve avec une nouvelle identité visuelle et de nouveaux personnages : la famille Panda. \nEt pour cette nouvelle édition\, les Contes de Perrault seront notre fil conducteur. \nDu 21 février au 10 mars : Les projections sont sans nul doute le moment le plus attendu du Festival par le jeune public.\nCelui-ci est toujours friand de dessins animés et de nouveautés. \nMais les ados et adultes pourrons également découvrir des films d’animations spécialement sélectionnés à leur intention. \nTarif de base : 7\,00€ \nMoyen de paiement : Atouts Normandie#Carte bleue#Cartes de paiement#Chèques bancaires et postaux#Chèques Vacances#Espèces#Eurocard – Mastercard#Paiement sans contact#Pass Culture#Virements#Visa
URL:https://www.tourisme.paysduneubourg.fr/evenement/festival-du-cinema-danimation/
LOCATION:68 rue de la république – LE NEUBOURG\, 68 Rue de la République\, LE NEUBOURG\, 27110\, France
CATEGORIES:Adulte,Cinéma,Culturelle,Famille,Festival,Pour enfant,Sports et loisirs
ATTACH;FMTTYPE=image/jpeg:https://www.tourisme.paysduneubourg.fr/wp-content/uploads/tourinsoft/AFFICHE-OFFICIELLE-FCA-2024-scaled.jpg
ORGANIZER;CN="Office%20de%20tourisme%20du%20Neubourg":MAILTO:tourisme@paysduneubourg.fr
END:VEVENT
BEGIN:VEVENT
DTSTART;TZID=Europe/Paris:20240210T000000
DTEND;TZID=Europe/Paris:20240310T000000
DTSTAMP:20260419T150155
CREATED:20240205T173616Z
LAST-MODIFIED:20240207T003644Z
UID:39789-1707523200-1710028800@www.tourisme.paysduneubourg.fr
SUMMARY:Festival du Cinéma d'Animation - Exposition They shot the piano player
DESCRIPTION:hey Shot the Piano Player\, nouveau film d’animation du duo Fernando Trueba et Javier Mariscal\, nous emmène sur les routes du Brésil à la recherche d’un pianiste mystérieusement disparu. \nVenez en apprendre plus et découvrir les secrets de fabrication du film. \nExpositions visibles aux horaires d’ouverture du cinéma selon le programme des séances.
URL:https://www.tourisme.paysduneubourg.fr/evenement/festival-du-cinema-danimation-exposition-they-shot-the-piano-player/
LOCATION:68 rue de la république – LE NEUBOURG\, 68 Rue de la République\, LE NEUBOURG\, 27110\, France
CATEGORIES:Adulte,Cinéma,Culturelle,Exposition
ATTACH;FMTTYPE=image/jpeg:https://www.tourisme.paysduneubourg.fr/wp-content/uploads/tourinsoft/visuel-expo-they-shot-the-piano-player-scaled.jpg
ORGANIZER;CN="Office%20de%20tourisme%20du%20Neubourg":MAILTO:tourisme@paysduneubourg.fr
END:VEVENT
BEGIN:VEVENT
DTSTART;TZID=Europe/Paris:20240316T000000
DTEND;TZID=Europe/Paris:20240316T000000
DTSTAMP:20260419T150155
CREATED:20240312T113606Z
LAST-MODIFIED:20240313T003603Z
UID:39895-1710547200-1710547200@www.tourisme.paysduneubourg.fr
SUMMARY:Dictée du Neubourg
DESCRIPTION:La ville du Neubourg\, \nen partenariat avec l’Université Populaire et les établissements Lepetit\, s’associent cette année encore pour proposer une dictée collective. \nTrois catégories :\nOuvert aux élèves de CM1 – CM2 – 6ème\, aux 5ème – 4ème – 3ème ainsi qu’aux lycéens/adultes\, ce concours de dictée gratuit se veut convivial et intergénérationnel. Il aura lieu le samedi 16 mars 2024 de 10h à 12h30 à la salle du Haut Phare. \nLes participants pourront partager un moment divertissant permettant à la fois d’améliorer leur maîtrise de la langue française\, de tester leurs connaissances et de se faire plaisir. \nA l’issue de l’épreuve\, les copies seront ramassées et redistribuées aux candidats correcteurs pour une première correction. Les meilleures copies seront ensuite reprises pour contrôle. \nLes deux meilleurs candidats de chaque catégorie ayant déjoué les pièges de l’orthographe et les subtilités de la langue française se verront remettre un bon d’achat à la Librairie Lepetit. \nLa Dictée du Neubourg\, c’est une formidable occasion de participer à un défi motivant autour de la langue française !\nSur inscription à compter du lundi 4 mars. Téléchargez le bulletin d’inscription : https://www.leneubourg.fr/wp-content/uploads/2023/02/fiche-dinscription-dictee-2024.pdf\nLe règlement de la dictée est téléchargeable : https://www.leneubourg.fr/wp-content/uploads/2023/02/2024-reglement-dictee.pdf\nPossibilité de s’inscrire sur place dans la limite des places disponibles.
URL:https://www.tourisme.paysduneubourg.fr/evenement/dictee-du-neubourg/
LOCATION:Rue du Haut Phare – LE NEUBOURG\, Rue du Haut Phare\, LE NEUBOURG\, 27110\, France
CATEGORIES:Adulte,Autre,Culturelle,Famille,Littérature,Pour enfant
ORGANIZER;CN="Office%20de%20tourisme%20du%20Neubourg":MAILTO:tourisme@paysduneubourg.fr
END:VEVENT
END:VCALENDAR