BEGIN:VCALENDAR
VERSION:2.0
PRODID:-//Office de Tourisme du Pays du Neubourg - ECPv5.16.2.1//NONSGML v1.0//EN
CALSCALE:GREGORIAN
METHOD:PUBLISH
X-ORIGINAL-URL:https://www.tourisme.paysduneubourg.fr
X-WR-CALDESC:évènements pour Office de Tourisme du Pays du Neubourg
REFRESH-INTERVAL;VALUE=DURATION:PT1H
X-Robots-Tag:noindex
X-PUBLISHED-TTL:PT1H
BEGIN:VTIMEZONE
TZID:Europe/Paris
BEGIN:DAYLIGHT
TZOFFSETFROM:+0100
TZOFFSETTO:+0200
TZNAME:CEST
DTSTART:20240331T010000
END:DAYLIGHT
BEGIN:STANDARD
TZOFFSETFROM:+0200
TZOFFSETTO:+0100
TZNAME:CET
DTSTART:20241027T010000
END:STANDARD
END:VTIMEZONE
BEGIN:VEVENT
DTSTART;TZID=Europe/Paris:20240317T000000
DTEND;TZID=Europe/Paris:20240317T000000
DTSTAMP:20260420T195001
CREATED:20240312T113607Z
LAST-MODIFIED:20240313T003610Z
UID:39896-1710633600-1710633600@www.tourisme.paysduneubourg.fr
SUMMARY:Comice Agricole
DESCRIPTION:Ce « Mini-salon » de l’agriculture\, organisé par la ville du Neubourg\, se tiendra comme chaque année en centre-ville\, le dimanche 17 mars 2024 à partir de 10h. \nRendez-vous sur les Places Dupont de l’Eure et Gambetta pour profiter d’une journée en toute convivialité autour du monde rural avec la présence d’éleveurs passionnés. \nComme à l’accoutumée\, le concours de bestiaux permettra de sélectionner les meilleurs bovins et ovins. Les éleveurs recevront un prix et une plaque leur assurant une meilleure commercialisation de leurs animaux. \nLes visiteurs pourront également rencontrer des artisans du territoire\, découvrir les différentes races bovines : la Normande\, la Charolaise\, la Rouge des Prés\, la Blonde d’Aquitaine\, la Blanc Bleu\, la Parthenaise … \nAdmirer les chevaux apprêtés et approcher les animaux de la ferme : chèvres\, porcs\, ânes et moutons.\nC’est également l’occasion d’admirer l’exposition de tracteurs anciens et pour les plus jeunes de monter à bord des modèles plus récents.\nSans oublier d’arpenter les étals du marché fermier ! \nEt une nouveauté cette année pour les enfants : le baptême de poneys. \nUne belle manifestation populaire à ne pas manquer ! \nEntrée libre. \nReservation : \nSans
URL:https://www.tourisme.paysduneubourg.fr/evenement/comice-agricole/
LOCATION:Rue Dupont de l’Eure – LE NEUBOURG\, Rue Dupont de l'Eure\, LE NEUBOURG\, 27110\, France
CATEGORIES:Agriculture,Animaux,Concours d'animaux,Famille,Insolite,Marché,Nature,Pour enfant,Tradition et folklore,Traditions et folklore
ATTACH;FMTTYPE=image/jpeg:https://www.tourisme.paysduneubourg.fr/wp-content/uploads/tourinsoft/Affiche-Comice-Agricole-2024-2-scaled.jpg
ORGANIZER;CN="Office%20de%20tourisme%20du%20Neubourg":MAILTO:tourisme@paysduneubourg.fr
END:VEVENT
END:VCALENDAR