BEGIN:VCALENDAR
VERSION:2.0
PRODID:-//Office de Tourisme du Pays du Neubourg - ECPv5.16.2.1//NONSGML v1.0//EN
CALSCALE:GREGORIAN
METHOD:PUBLISH
X-ORIGINAL-URL:https://www.tourisme.paysduneubourg.fr
X-WR-CALDESC:évènements pour Office de Tourisme du Pays du Neubourg
REFRESH-INTERVAL;VALUE=DURATION:PT1H
X-Robots-Tag:noindex
X-PUBLISHED-TTL:PT1H
BEGIN:VTIMEZONE
TZID:Europe/Paris
BEGIN:DAYLIGHT
TZOFFSETFROM:+0100
TZOFFSETTO:+0200
TZNAME:CEST
DTSTART:20240331T010000
END:DAYLIGHT
BEGIN:STANDARD
TZOFFSETFROM:+0200
TZOFFSETTO:+0100
TZNAME:CET
DTSTART:20241027T010000
END:STANDARD
END:VTIMEZONE
BEGIN:VEVENT
DTSTART;TZID=Europe/Paris:20241121T203000
DTEND;TZID=Europe/Paris:20241121T000000
DTSTAMP:20260419T231711
CREATED:20241113T153607Z
LAST-MODIFIED:20241114T003607Z
UID:40514-1732221000-1732147200@www.tourisme.paysduneubourg.fr
SUMMARY:Festival AlimenTerre
DESCRIPTION:Dans le cadre du Festival AlimenTerre\, le Carrefour Rural\, en partenariat avec la ville du Neubourg\, organisent la projection du film documentaire : ” Bienveillance paysanne”. \nUn échange avec le public aura lieu à l’issue de la projection. \nDocumentaire réalisé par Oliver Dickinson\nAnnée de sortie : 2023\nSynopsis : Algues vertes\, gaz à effet de serre\, déforestation\, recul de la biodiversité\, réchauffement climatique… Et tant d’autres maux imputés à l’élevage ! L’animal de ferme\, notre bienfaiteur nourricier\, serait-il devenu l’ennemi Numéro 1 de la vie sur Terre ? Le documentariste Oliver Dickinson a voulu le vérifier en parcourant la France à la rencontre d’éleveurs et d’éleveuses adeptes de pratiques vertueuses. Ils et elles ont choisi de replanter les arbres et de développer d’ingénieuses collaborations animales pour laisser une empreinte plus douce et contribuer à la sauvegarde de notre planète. \nL’avis du comité de sélection \nCe film est un bel hommage au métier de paysan et de paysanne. A travers différents exemples français d’élevages respectueux du vivant\, il montre l’importance des animaux dans l’équilibre des écosystèmes\, la préservation des sols\, et les relations entre biodiversité sauvage et biodiversité cultivée. L’intention\, clairement annoncée au début du film\, est de mettre en avant des alternatives concrètes au modèle agricole dominant\, afin de promouvoir une agriculture plus respectueuse de l’environnement\, des bêtes et des humains. Circuits courts\, agroforesterie\, passage en bio\, agriculture durable\, sont les thématiques abordées. Ce documentaire permet d’ouvrir les débats sur la question de l’élevage\, ici et ailleurs : problème ou solution face à l’érosion de la biodiversité\, au changement climatique et à la désertification ? Le message est positif et laisse entendre qu’il est possible de produire différemment. \nAdapté à un public scolaire à partir du collège\, et toutes personnes intéressées par l’élevage.
URL:https://www.tourisme.paysduneubourg.fr/evenement/festival-alimenterre/
LOCATION:68 rue de la république – LE NEUBOURG\, 68 Rue de la République\, LE NEUBOURG\, 27110\, France
CATEGORIES:Agriculture,Animaux,Cinéma,Conférence,Culturelle,Insolite,Nature,Terroir
ATTACH;FMTTYPE=image/jpeg:https://www.tourisme.paysduneubourg.fr/wp-content/uploads/tourinsoft/affichealim24-1087x1536.jpg
ORGANIZER;CN="Office%20de%20tourisme%20du%20Neubourg":MAILTO:tourisme@paysduneubourg.fr
END:VEVENT
END:VCALENDAR