BEGIN:VCALENDAR
VERSION:2.0
PRODID:-//Office de Tourisme du Pays du Neubourg - ECPv5.16.2.1//NONSGML v1.0//EN
CALSCALE:GREGORIAN
METHOD:PUBLISH
X-WR-CALNAME:Office de Tourisme du Pays du Neubourg
X-ORIGINAL-URL:https://www.tourisme.paysduneubourg.fr
X-WR-CALDESC:évènements pour Office de Tourisme du Pays du Neubourg
REFRESH-INTERVAL;VALUE=DURATION:PT1H
X-Robots-Tag:noindex
X-PUBLISHED-TTL:PT1H
BEGIN:VTIMEZONE
TZID:Europe/Paris
BEGIN:DAYLIGHT
TZOFFSETFROM:+0100
TZOFFSETTO:+0200
TZNAME:CEST
DTSTART:20240331T010000
END:DAYLIGHT
BEGIN:STANDARD
TZOFFSETFROM:+0200
TZOFFSETTO:+0100
TZNAME:CET
DTSTART:20241027T010000
END:STANDARD
END:VTIMEZONE
BEGIN:VEVENT
DTSTART;TZID=Europe/Paris:20240215T200000
DTEND;TZID=Europe/Paris:20240215T000000
DTSTAMP:20260420T023350
CREATED:20240206T173651Z
LAST-MODIFIED:20240207T003657Z
UID:39820-1708027200-1707955200@www.tourisme.paysduneubourg.fr
SUMMARY:Conférence - L'UNIVERS GRAND OUVERT - AUX FRONTIERES DE L'ESPACE ET DU TEMPS
DESCRIPTION:Présentée par Maxime Follin \nIl y a deux ans\, le jour de Noël 2021\, avait lieu le lancement du James Webb Space Telescope\, le plus grand télescope spatial jamais construit. Après son déploiement délicat et complet\, cet instrument hors norme commence maintenant à nous révéler des informations cruciales sur les premiers temps de l’Univers\, comme la formation des premières galaxies et des premières étoiles. Cette mission d’observation fait suite au lancement il y a presque 34 ans du Hubble Space Telescope encore en fonctionnement\, et qui a révolutionné notre connaissance du Cosmos. \nL’Univers s’ouvre ainsi à nous depuis quelques décennies grâce aux observations toujours plus fines\, rendues possibles grâce à des techniques toujours plus pointues. Nébuleuses\, galaxies et étoiles toujours plus lointaines ne sont que quelques objets étudiés par les scientifiques pour mieux comprendre l’Histoire de l’Univers\, aux frontières de l’Espace et du temps. \nLes derniers télescopes envoyés dans l’espace complètent les observations faites depuis le sol terrestre et repoussent un peu plus à chaque fois les limites de notre savoir. Dans cette recherche\, de grandes et passionnantes questions sont toujours posées :\n– Quand se sont formées les premières galaxies\, les premières étoiles ?\n– Que savons nous des origines de l’Univers et du Big-Bang ? L’Univers est-il infini ?\n– Y a-t-il d’autres planètes comme la nôtre ailleurs ? Y a-t-il de la vie ailleurs ? \nVous pourrez poser vos questions à Maxime Follin lors d’un échange avec le public en fin de conférence. Il y aura à l’appui des très belles images qui font l’actualité de l’astronomie\, et des maquettes et expériences pour rendre la séance plus interactive. \nConférence gratuite et tout public. \nReservation : \nSans
URL:https://www.tourisme.paysduneubourg.fr/evenement/conference-lunivers-grand-ouvert-aux-frontieres-de-lespace-et-du-temps/
LOCATION:68 rue de la république – LE NEUBOURG\, 68 Rue de la République\, LE NEUBOURG\, 27110\, France
CATEGORIES:Astronomie,Conférence,Culturelle
ATTACH;FMTTYPE=image/jpeg:https://www.tourisme.paysduneubourg.fr/wp-content/uploads/tourinsoft/affiche-conference-Univers-grand-Ouvert-scaled.jpg
ORGANIZER;CN="Office%20de%20tourisme%20du%20Neubourg":MAILTO:tourisme@paysduneubourg.fr
END:VEVENT
END:VCALENDAR