BEGIN:VCALENDAR
VERSION:2.0
PRODID:-//Office de Tourisme du Pays du Neubourg - ECPv5.16.2.1//NONSGML v1.0//EN
CALSCALE:GREGORIAN
METHOD:PUBLISH
X-WR-CALNAME:Office de Tourisme du Pays du Neubourg
X-ORIGINAL-URL:https://www.tourisme.paysduneubourg.fr
X-WR-CALDESC:évènements pour Office de Tourisme du Pays du Neubourg
REFRESH-INTERVAL;VALUE=DURATION:PT1H
X-Robots-Tag:noindex
X-PUBLISHED-TTL:PT1H
BEGIN:VTIMEZONE
TZID:Europe/Paris
BEGIN:DAYLIGHT
TZOFFSETFROM:+0100
TZOFFSETTO:+0200
TZNAME:CEST
DTSTART:20250330T010000
END:DAYLIGHT
BEGIN:STANDARD
TZOFFSETFROM:+0200
TZOFFSETTO:+0100
TZNAME:CET
DTSTART:20251026T010000
END:STANDARD
END:VTIMEZONE
BEGIN:VEVENT
DTSTART;TZID=Europe/Paris:20251103T000000
DTEND;TZID=Europe/Paris:20251129T000000
DTSTAMP:20260424T172536
CREATED:20251031T093609Z
LAST-MODIFIED:20251101T003605Z
UID:42124-1762128000-1764374400@www.tourisme.paysduneubourg.fr
SUMMARY:Novembre gagnant chez les commerçants du Neubourg
DESCRIPTION:Faites vos achats chez les commerçants partenaires UCIAL et remportez des cadeaux exceptionnels ! \nDu 3 au 29 novembre\, vos achats dans les commerçants partenaires UCIAL peuvent vous faire gagner de nombreux lots : \n– Un voyage au soleil\n– Un séjour à Center Parcs\n– Un an de cinéma\n– Des bons d’achat de 150 euros\nEt bien d’autres surprises à découvrir ! \nReservation : \nSans
URL:https://www.tourisme.paysduneubourg.fr/evenement/novembre-gagnant-chez-les-commercants-du-neubourg/
LOCATION:Centre-ville du Neubourg – LE NEUBOURG\, Centre-ville du Neubourg\, LE NEUBOURG\, 27110\, France
CATEGORIES:Artisanat,Autre,Manifestation commerciale,Mode
ATTACH;FMTTYPE=image/jpeg:https://www.tourisme.paysduneubourg.fr/wp-content/uploads/tourinsoft/affiche-novembre-gagnant-UCIAL-page-0001.jpg
ORGANIZER;CN="Office%20de%20tourisme%20du%20Neubourg":MAILTO:tourisme@paysduneubourg.fr
END:VEVENT
END:VCALENDAR